BEGIN:VCALENDAR
VERSION:2.0
PRODID:-//New Hanover County NAACP - ECPv6.15.20//NONSGML v1.0//EN
CALSCALE:GREGORIAN
METHOD:PUBLISH
X-ORIGINAL-URL:https://nhcnaacp.org
X-WR-CALDESC:Events for New Hanover County NAACP
REFRESH-INTERVAL;VALUE=DURATION:PT1H
X-Robots-Tag:noindex
X-PUBLISHED-TTL:PT1H
BEGIN:VTIMEZONE
TZID:America/New_York
BEGIN:DAYLIGHT
TZOFFSETFROM:-0500
TZOFFSETTO:-0400
TZNAME:EDT
DTSTART:20230312T070000
END:DAYLIGHT
BEGIN:STANDARD
TZOFFSETFROM:-0400
TZOFFSETTO:-0500
TZNAME:EST
DTSTART:20231105T060000
END:STANDARD
BEGIN:DAYLIGHT
TZOFFSETFROM:-0500
TZOFFSETTO:-0400
TZNAME:EDT
DTSTART:20240310T070000
END:DAYLIGHT
BEGIN:STANDARD
TZOFFSETFROM:-0400
TZOFFSETTO:-0500
TZNAME:EST
DTSTART:20241103T060000
END:STANDARD
BEGIN:DAYLIGHT
TZOFFSETFROM:-0500
TZOFFSETTO:-0400
TZNAME:EDT
DTSTART:20250309T070000
END:DAYLIGHT
BEGIN:STANDARD
TZOFFSETFROM:-0400
TZOFFSETTO:-0500
TZNAME:EST
DTSTART:20251102T060000
END:STANDARD
BEGIN:DAYLIGHT
TZOFFSETFROM:-0500
TZOFFSETTO:-0400
TZNAME:EDT
DTSTART:20260308T070000
END:DAYLIGHT
BEGIN:STANDARD
TZOFFSETFROM:-0400
TZOFFSETTO:-0500
TZNAME:EST
DTSTART:20261101T060000
END:STANDARD
END:VTIMEZONE
BEGIN:VEVENT
DTSTART;TZID=America/New_York:20240914T190000
DTEND;TZID=America/New_York:20240914T220000
DTSTAMP:20260419T220154
CREATED:20240609T010209Z
LAST-MODIFIED:20240822T224338Z
UID:12552-1726340400-1726351200@nhcnaacp.org
SUMMARY:Freedom Fund Banquet
DESCRIPTION:The Freedom Fund Banquet is the New Hanover County Branch’s most important activity for raising the funds annually to carry out the NAACP mission. The 2024 Banquet will be a Black-Tie event held on Saturday\, September 14\, 2024\, at 7:00 PM in the Burney Center of the University of North Carolina in Wilmington (UNCW). The guest speaker will be Attorney Reginald “Reggie” Shuford\, executive director of the North Carolina Justice Center and immediate past Executive Director of the American Civil Liberties Union (ACLU) of Pennsylvania. The theme will be “Answering the Call for Public Service.”  Please spread the word! You may see the link below to purchase tickets\, ads\, and sponsorships.
URL:https://nhcnaacp.org/event/freedom-fund-banquet/
LOCATION:Hotel Ballast\, 301 N. Water Street\, Wilmington\, NC\, 28401\, United States
CATEGORIES:Fundraiser
ATTACH;FMTTYPE=image/jpeg:https://nhcnaacp.org/wp-content/uploads/2024/08/Freedom-Fund-Banquet-revised-flyer-8-20-24.jpg
ORGANIZER;CN="NHC NAACP":MAILTO:info@nhcnaacp.org
END:VEVENT
BEGIN:VEVENT
DTSTART;TZID=America/New_York:20250125T090000
DTEND;TZID=America/New_York:20250125T110000
DTSTAMP:20260419T220154
CREATED:20241206T043419Z
LAST-MODIFIED:20241206T043423Z
UID:12575-1737795600-1737802800@nhcnaacp.org
SUMMARY:2025 MLK Breakfast
DESCRIPTION:
URL:https://nhcnaacp.org/event/2025-mlk-breakfast/
LOCATION:Hotel Ballast\, 301 N. Water Street\, Wilmington\, NC\, 28401\, United States
ATTACH;FMTTYPE=image/jpeg:https://nhcnaacp.org/wp-content/uploads/2024/12/1733457333082-30ace37f-1ef8-4d38-80fe-9a2de231c922_1.jpg
ORGANIZER;CN="NHC NAACP":MAILTO:info@nhcnaacp.org
END:VEVENT
END:VCALENDAR