BEGIN:VCALENDAR
VERSION:2.0
PRODID:-//New Hanover County NAACP - ECPv6.15.20//NONSGML v1.0//EN
CALSCALE:GREGORIAN
METHOD:PUBLISH
X-WR-CALNAME:New Hanover County NAACP
X-ORIGINAL-URL:https://nhcnaacp.org
X-WR-CALDESC:Events for New Hanover County NAACP
REFRESH-INTERVAL;VALUE=DURATION:PT1H
X-Robots-Tag:noindex
X-PUBLISHED-TTL:PT1H
BEGIN:VTIMEZONE
TZID:America/New_York
BEGIN:DAYLIGHT
TZOFFSETFROM:-0500
TZOFFSETTO:-0400
TZNAME:EDT
DTSTART:20210314T070000
END:DAYLIGHT
BEGIN:STANDARD
TZOFFSETFROM:-0400
TZOFFSETTO:-0500
TZNAME:EST
DTSTART:20211107T060000
END:STANDARD
BEGIN:DAYLIGHT
TZOFFSETFROM:-0500
TZOFFSETTO:-0400
TZNAME:EDT
DTSTART:20220313T070000
END:DAYLIGHT
BEGIN:STANDARD
TZOFFSETFROM:-0400
TZOFFSETTO:-0500
TZNAME:EST
DTSTART:20221106T060000
END:STANDARD
BEGIN:DAYLIGHT
TZOFFSETFROM:-0500
TZOFFSETTO:-0400
TZNAME:EDT
DTSTART:20230312T070000
END:DAYLIGHT
BEGIN:STANDARD
TZOFFSETFROM:-0400
TZOFFSETTO:-0500
TZNAME:EST
DTSTART:20231105T060000
END:STANDARD
BEGIN:DAYLIGHT
TZOFFSETFROM:-0500
TZOFFSETTO:-0400
TZNAME:EDT
DTSTART:20240310T070000
END:DAYLIGHT
BEGIN:STANDARD
TZOFFSETFROM:-0400
TZOFFSETTO:-0500
TZNAME:EST
DTSTART:20241103T060000
END:STANDARD
END:VTIMEZONE
BEGIN:VEVENT
DTSTART;TZID=America/New_York:20231029T120000
DTEND;TZID=America/New_York:20231029T170000
DTSTAMP:20260420T020402
CREATED:20231012T131314Z
LAST-MODIFIED:20231012T150233Z
UID:12464-1698580800-1698598800@nhcnaacp.org
SUMMARY:Souls to the Polls
DESCRIPTION:
URL:https://nhcnaacp.org/event/souls-to-the-polls/
LOCATION:St. Stephens AME Church\, 501 Red Cross Street\, Wilmington\, NC\, United States
ORGANIZER;CN="NHC NAACP":MAILTO:info@nhcnaacp.org
END:VEVENT
BEGIN:VEVENT
DTSTART;TZID=America/New_York:20231007T150000
DTEND;TZID=America/New_York:20231007T180000
DTSTAMP:20260420T020402
CREATED:20231002T161322Z
LAST-MODIFIED:20231002T161750Z
UID:12451-1696690800-1696701600@nhcnaacp.org
SUMMARY:Candidate Forum
DESCRIPTION:
URL:https://nhcnaacp.org/event/candidate-forum/
LOCATION:Martin Luther King Center\, 401 S. 8th Street\, Wilmington\, NC\, 28401\, United States
END:VEVENT
BEGIN:VEVENT
DTSTART;TZID=America/New_York:20230930T190000
DTEND;TZID=America/New_York:20230930T210000
DTSTAMP:20260420T020402
CREATED:20230810T030115Z
LAST-MODIFIED:20230810T030119Z
UID:12420-1696100400-1696107600@nhcnaacp.org
SUMMARY:NC NAACP 80 ASC Freedom Fund Gala
DESCRIPTION:
URL:https://nhcnaacp.org/event/nc-naacp-80-asc-freedom-fund-gala/
LOCATION:Wilmington Convention Center\, 10 Convention Center Drive\, Wilmington\, NC\, 28401\, United States
CATEGORIES:Fundraiser
END:VEVENT
BEGIN:VEVENT
DTSTART;TZID=America/New_York:20221015T190000
DTEND;TZID=America/New_York:20221015T230000
DTSTAMP:20260420T020402
CREATED:20220902T031910Z
LAST-MODIFIED:20220902T031913Z
UID:12207-1665860400-1665874800@nhcnaacp.org
SUMMARY:NHC NAACP Freedom Fund Banquet
DESCRIPTION:
URL:https://nhcnaacp.org/event/nhc-naacp-freedom-fund-banquet/
LOCATION:University of North Carolina at Wilmington Burney Center\, Union Drive\, Wilmington\, NC\, 28403\, United States
CATEGORIES:Fundraiser
END:VEVENT
BEGIN:VEVENT
DTSTART;TZID=America/New_York:20220817T080000
DTEND;TZID=America/New_York:20220817T170000
DTSTAMP:20260420T020402
CREATED:20220817T130004Z
LAST-MODIFIED:20220817T130004Z
UID:12203-1660723200-1660755600@nhcnaacp.org
SUMMARY:
DESCRIPTION:
URL:https://nhcnaacp.org/event/12203/
LOCATION:NC
END:VEVENT
END:VCALENDAR